BEGIN:VCALENDAR
VERSION:2.0
PRODID:-//Parkinson Move - ECPv6.9.0//NONSGML v1.0//EN
CALSCALE:GREGORIAN
METHOD:PUBLISH
X-WR-CALNAME:Parkinson Move
X-ORIGINAL-URL:https://parkinsonmove.ch
X-WR-CALDESC:Évènements pour Parkinson Move
REFRESH-INTERVAL;VALUE=DURATION:PT1H
X-Robots-Tag:noindex
X-PUBLISHED-TTL:PT1H
BEGIN:VTIMEZONE
TZID:Europe/Zurich
BEGIN:DAYLIGHT
TZOFFSETFROM:+0100
TZOFFSETTO:+0200
TZNAME:CEST
DTSTART:20220327T010000
END:DAYLIGHT
BEGIN:STANDARD
TZOFFSETFROM:+0200
TZOFFSETTO:+0100
TZNAME:CET
DTSTART:20221030T010000
END:STANDARD
END:VTIMEZONE
BEGIN:VEVENT
DTSTART;VALUE=DATE:20221119
DTEND;VALUE=DATE:20221120
DTSTAMP:20260423T025257
CREATED:20221021T135227Z
LAST-MODIFIED:20221021T135227Z
UID:30263-1668816000-1668902399@parkinsonmove.ch
SUMMARY:Corrida bulloise - Special Olympics
DESCRIPTION:
URL:https://parkinsonmove.ch/event/corrida-bulloise-special-olympics/
LOCATION:Bulle
END:VEVENT
END:VCALENDAR