BEGIN:VCALENDAR
VERSION:2.0
PRODID:-//Parkinson Move - ECPv6.9.0//NONSGML v1.0//EN
CALSCALE:GREGORIAN
METHOD:PUBLISH
X-ORIGINAL-URL:https://parkinsonmove.ch
X-WR-CALDESC:Évènements pour Parkinson Move
REFRESH-INTERVAL;VALUE=DURATION:PT1H
X-Robots-Tag:noindex
X-PUBLISHED-TTL:PT1H
BEGIN:VTIMEZONE
TZID:Europe/Zurich
BEGIN:DAYLIGHT
TZOFFSETFROM:+0100
TZOFFSETTO:+0200
TZNAME:CEST
DTSTART:20240331T010000
END:DAYLIGHT
BEGIN:STANDARD
TZOFFSETFROM:+0200
TZOFFSETTO:+0100
TZNAME:CET
DTSTART:20241027T010000
END:STANDARD
END:VTIMEZONE
BEGIN:VEVENT
DTSTART;VALUE=DATE:20240921
DTEND;VALUE=DATE:20240922
DTSTAMP:20260420T224636
CREATED:20231025T144640Z
LAST-MODIFIED:20231025T144640Z
UID:30761-1726876800-1726963199@parkinsonmove.ch
SUMMARY:Regional Games Nyon
DESCRIPTION:
URL:https://parkinsonmove.ch/event/regional-games-nyon/
LOCATION:Nyon\, Piscine de Cossy
END:VEVENT
END:VCALENDAR