BEGIN:VCALENDAR
VERSION:2.0
PRODID:-//Parkinson Move - ECPv6.9.0//NONSGML v1.0//EN
CALSCALE:GREGORIAN
METHOD:PUBLISH
X-WR-CALNAME:Parkinson Move
X-ORIGINAL-URL:https://parkinsonmove.ch
X-WR-CALDESC:Évènements pour Parkinson Move
REFRESH-INTERVAL;VALUE=DURATION:PT1H
X-Robots-Tag:noindex
X-PUBLISHED-TTL:PT1H
BEGIN:VTIMEZONE
TZID:Europe/Zurich
BEGIN:DAYLIGHT
TZOFFSETFROM:+0100
TZOFFSETTO:+0200
TZNAME:CEST
DTSTART:20230326T010000
END:DAYLIGHT
BEGIN:STANDARD
TZOFFSETFROM:+0200
TZOFFSETTO:+0100
TZNAME:CET
DTSTART:20231029T010000
END:STANDARD
END:VTIMEZONE
BEGIN:VEVENT
DTSTART;TZID=Europe/Zurich:20230125T190000
DTEND;TZID=Europe/Zurich:20230125T203000
DTSTAMP:20260422T152006
CREATED:20230105T195131Z
LAST-MODIFIED:20230105T195131Z
UID:30446-1674673200-1674678600@parkinsonmove.ch
SUMMARY:Assemblée générale ordinaire
DESCRIPTION:AG PARKINSON MOVE
URL:https://parkinsonmove.ch/event/assemblee-generale-ordinaire/
LOCATION:Gilly
END:VEVENT
END:VCALENDAR