BEGIN:VCALENDAR
VERSION:2.0
PRODID:-//Parkinson Move - ECPv6.9.0//NONSGML v1.0//EN
CALSCALE:GREGORIAN
METHOD:PUBLISH
X-WR-CALNAME:Parkinson Move
X-ORIGINAL-URL:https://parkinsonmove.ch
X-WR-CALDESC:Évènements pour Parkinson Move
REFRESH-INTERVAL;VALUE=DURATION:PT1H
X-Robots-Tag:noindex
X-PUBLISHED-TTL:PT1H
BEGIN:VTIMEZONE
TZID:Europe/Zurich
BEGIN:DAYLIGHT
TZOFFSETFROM:+0100
TZOFFSETTO:+0200
TZNAME:CEST
DTSTART:20230326T010000
END:DAYLIGHT
BEGIN:STANDARD
TZOFFSETFROM:+0200
TZOFFSETTO:+0100
TZNAME:CET
DTSTART:20231029T010000
END:STANDARD
END:VTIMEZONE
BEGIN:VEVENT
DTSTART;VALUE=DATE:20230401
DTEND;VALUE=DATE:20230402
DTSTAMP:20260422T101430
CREATED:20221023T095129Z
LAST-MODIFIED:20221023T095150Z
UID:30387-1680307200-1680393599@parkinsonmove.ch
SUMMARY:Meeting de natation à Nyon - Special Olympics
DESCRIPTION:
URL:https://parkinsonmove.ch/event/meeting-de-nation-a-nyon-special-olympics/
LOCATION:Nyon\, Piscine de Cossy
END:VEVENT
BEGIN:VEVENT
DTSTART;TZID=Europe/Zurich:20230429T063000
DTEND;TZID=Europe/Zurich:20230430T020000
DTSTAMP:20260422T101430
CREATED:20221021T133000Z
LAST-MODIFIED:20221021T134922Z
UID:30250-1682749800-1682820000@parkinsonmove.ch
SUMMARY:Soirée de soutien Parkinson Move
DESCRIPTION:
URL:https://parkinsonmove.ch/event/soiree-de-soutien-parkinson-move/
LOCATION:Gland
END:VEVENT
END:VCALENDAR