BEGIN:VCALENDAR
VERSION:2.0
PRODID:-//Parkinson Move - ECPv6.9.0//NONSGML v1.0//EN
CALSCALE:GREGORIAN
METHOD:PUBLISH
X-WR-CALNAME:Parkinson Move
X-ORIGINAL-URL:https://parkinsonmove.ch
X-WR-CALDESC:Évènements pour Parkinson Move
REFRESH-INTERVAL;VALUE=DURATION:PT1H
X-Robots-Tag:noindex
X-PUBLISHED-TTL:PT1H
BEGIN:VTIMEZONE
TZID:Europe/Zurich
BEGIN:DAYLIGHT
TZOFFSETFROM:+0100
TZOFFSETTO:+0200
TZNAME:CEST
DTSTART:20230326T010000
END:DAYLIGHT
BEGIN:STANDARD
TZOFFSETFROM:+0200
TZOFFSETTO:+0100
TZNAME:CET
DTSTART:20231029T010000
END:STANDARD
END:VTIMEZONE
BEGIN:VEVENT
DTSTART;TZID=Europe/Zurich:20231108T160000
DTEND;TZID=Europe/Zurich:20231108T190000
DTSTAMP:20260421T203438
CREATED:20231025T144405Z
LAST-MODIFIED:20231025T144405Z
UID:30757-1699459200-1699470000@parkinsonmove.ch
SUMMARY:Marché de Gland
DESCRIPTION:
URL:https://parkinsonmove.ch/event/marche-de-gland-2/
LOCATION:Gare de Gland
END:VEVENT
END:VCALENDAR